BEGIN:VCALENDAR
VERSION:2.0
PRODID:-//FX101.9 - ECPv4.6.26//NONSGML v1.0//EN
CALSCALE:GREGORIAN
METHOD:PUBLISH
X-WR-CALNAME:FX101.9
X-ORIGINAL-URL:https://fx1019.ca
X-WR-CALDESC:Events for FX101.9
BEGIN:VEVENT
DTSTART;TZID=America/Halifax:20170429T173000
DTEND;TZID=America/Halifax:20170429T220000
DTSTAMP:20260422T103544
CREATED:20170412T130329Z
LAST-MODIFIED:20170412T130329Z
UID:4373-1493487000-1493503200@fx1019.ca
SUMMARY:Spring Merchandise and Cash Bingo
DESCRIPTION:Spring Merchandise and Cash Bingo North Woodside Community Centre. 230 Pleasant Street\, Dartmouth\, NS Saturday April 29th\, 2017 Doors open at 5:30 pm; Bingo starts at 6:30 pm Booklets (Special and Regular) $5.00 each Canteen on site 902-463-9276 \n
URL:https://fx1019.ca/event/spring-merchandise-and-cash-bingo/
END:VEVENT
END:VCALENDAR