BEGIN:VCALENDAR
VERSION:2.0
PRODID:-//FX101.9 - ECPv4.6.26//NONSGML v1.0//EN
CALSCALE:GREGORIAN
METHOD:PUBLISH
X-WR-CALNAME:FX101.9
X-ORIGINAL-URL:https://fx1019.ca
X-WR-CALDESC:Events for FX101.9
BEGIN:VEVENT
DTSTART;TZID=America/Halifax:20180623T080000
DTEND;TZID=America/Halifax:20180623T170000
DTSTAMP:20260422T103233
CREATED:20180613T172021Z
LAST-MODIFIED:20180613T172021Z
UID:6399-1529740800-1529773200@fx1019.ca
SUMMARY:Square Roots Market
DESCRIPTION:Reduce food waste and food insecurity with Square Roots! On the last full weekend of every month\, Square Roots sells 10-pound bundles of fresh\, mixed\, Nova Scotia produce for just $10\, or $5 if that is more affordable. We also have membership options that guarantees a bundle for you and for a family in need.\nThe next pick-up weekend is Saturday June 23rd and Sunday June 24th at various locations around Nova Scotia. Visit our Facebook or Instagram page for details: @squarerootssmu.ca. You can also reserve and pay for your bundle online at www.squarerootsfood.ca. \n
URL:https://fx1019.ca/event/square-roots-market/
END:VEVENT
END:VCALENDAR