BEGIN:VCALENDAR
VERSION:2.0
PRODID:-//FX101.9 - ECPv4.6.26//NONSGML v1.0//EN
CALSCALE:GREGORIAN
METHOD:PUBLISH
X-WR-CALNAME:FX101.9
X-ORIGINAL-URL:https://fx1019.ca
X-WR-CALDESC:Events for FX101.9
BEGIN:VEVENT
DTSTART;TZID=America/Halifax:20230219T080000
DTEND;TZID=America/Halifax:20230219T113000
DTSTAMP:20260421T152259
CREATED:20230119T141045Z
LAST-MODIFIED:20230119T141418Z
UID:15653-1676793600-1676806200@fx1019.ca
SUMMARY:Stair Heroes
DESCRIPTION:Stair Heroes is a unique\, stair climb held at Scotia Square Mall in Halifax.  Together we will STEP-UP for the 1 in 5 Canadians living with lung disease and raise critical awareness and funds for the Lung Association of Nova Scotia and Prince Edward Island. \nOur hero theme is based on our partnership with Halifax Regional Fire and Emergency. Our community heroes will be joining us and climbing the 36 flights in full fire fighting gear to show their support of lung health! \nWe encourage everyone to register and participate (early bird registration fee of $25) and to help raise critical donations. Our top three fundraisers will win prizes: \n$1000 travel voucher for 1st place fundraiser\n$500 travel voucher for 2nd place fundraiser\n$250 travel voucher for 3rd place fundraiser \nMore Details Register \n
URL:https://fx1019.ca/event/stair-heroes/
LOCATION:Was your life disrupted by extreme weather in 2023?
ATTACH;FMTTYPE=image/jpeg:https://fx1019.ca/wp-content/uploads/sites/3/2023/01/stair-heroes.jpg
END:VEVENT
END:VCALENDAR