BEGIN:VCALENDAR
VERSION:2.0
PRODID:-//FX101.9 - ECPv4.6.26//NONSGML v1.0//EN
CALSCALE:GREGORIAN
METHOD:PUBLISH
X-WR-CALNAME:FX101.9
X-ORIGINAL-URL:https://fx1019.ca
X-WR-CALDESC:Events for FX101.9
BEGIN:VEVENT
DTSTART;VALUE=DATE:20190725
DTEND;VALUE=DATE:20190729
DTSTAMP:20260423T145506
CREATED:20190604T000955Z
LAST-MODIFIED:20190604T000955Z
UID:9152-1564012800-1564358399@fx1019.ca
SUMMARY:Stan Rogers Folk Festival
DESCRIPTION:July 25-28\, 2019. \nCanso\, Cape Breton. \nSuzanne Vega\, Bruce Guthro\, Dave Gunning\, Jeremy Dutcher\, Garrett Mason and more. \nPHONE: 1 (888) 554-7826. \n  \n
URL:https://fx1019.ca/event/stan-rogers-folk-festival/
END:VEVENT
END:VCALENDAR