BEGIN:VCALENDAR
VERSION:2.0
PRODID:-//FX101.9 - ECPv4.6.26//NONSGML v1.0//EN
CALSCALE:GREGORIAN
METHOD:PUBLISH
X-WR-CALNAME:FX101.9
X-ORIGINAL-URL:https://fx1019.ca
X-WR-CALDESC:Events for FX101.9
BEGIN:VEVENT
DTSTART;TZID=America/Halifax:20170924T100000
DTEND;TZID=America/Halifax:20170924T130000
DTSTAMP:20260421T102016
CREATED:20170918T141042Z
LAST-MODIFIED:20170919T111057Z
UID:5690-1506247200-1506258000@fx1019.ca
SUMMARY:Tails on the Rails
DESCRIPTION: \n
URL:https://fx1019.ca/event/tails-on-the-rails/
ATTACH;FMTTYPE=image/jpeg:https://fx1019.ca/wp-content/uploads/sites/3/2017/09/tails-on-the-rails.jpeg
END:VEVENT
END:VCALENDAR