BEGIN:VCALENDAR
VERSION:2.0
PRODID:-//FX101.9 - ECPv4.6.26//NONSGML v1.0//EN
CALSCALE:GREGORIAN
METHOD:PUBLISH
X-WR-CALNAME:FX101.9
X-ORIGINAL-URL:https://fx1019.ca
X-WR-CALDESC:Events for FX101.9
BEGIN:VEVENT
DTSTART;TZID=America/Halifax:20170624T140000
DTEND;TZID=America/Halifax:20170624T160000
DTSTAMP:20260421T114135
CREATED:20170622T175247Z
LAST-MODIFIED:20170622T175247Z
UID:5042-1498312800-1498320000@fx1019.ca
SUMMARY:Tea Time
DESCRIPTION:Tea Time in Bedford! Annual Georgian Tea at Scott Manor House\, 15 Fort Sackville Rd.\, Bedford\, from 2 pm -4 pm. Free tea\, treats\, & entertainment! \n
URL:https://fx1019.ca/event/tea-time/
END:VEVENT
END:VCALENDAR