BEGIN:VCALENDAR
VERSION:2.0
PRODID:-//FX101.9 - ECPv4.6.26//NONSGML v1.0//EN
CALSCALE:GREGORIAN
METHOD:PUBLISH
X-WR-CALNAME:FX101.9
X-ORIGINAL-URL:https://fx1019.ca
X-WR-CALDESC:Events for FX101.9
BEGIN:VEVENT
DTSTART;VALUE=DATE:20190621
DTEND;VALUE=DATE:20190622
DTSTAMP:20260421T084202
CREATED:20190506T170910Z
LAST-MODIFIED:20190607T205607Z
UID:8741-1561075200-1561161599@fx1019.ca
SUMMARY:Halifax is founded
DESCRIPTION:June 21\, 1749 – Edward Cornwallis on the HMS Sphinx arrives in Chebucto basin on his way to Annapolis; reports to London that “The coasts are as rich as ever they have been represented; we caught fish every day since we came … The harbour itself is full of fish of all kinds. All the officers agree the harbour [Halifax] is the finest they have seen. The country is one continued wood; no clear spot is to be seen or heard of.” Governor Cornwallis begins scouting a site for the settlement; Point Pleasant rejected because of shallow water. \n
URL:https://fx1019.ca/event/the-cat-sets-sail-yarmouth-bar-harbor/
END:VEVENT
END:VCALENDAR