BEGIN:VCALENDAR
VERSION:2.0
PRODID:-//FX101.9 - ECPv4.6.26//NONSGML v1.0//EN
CALSCALE:GREGORIAN
METHOD:PUBLISH
X-WR-CALNAME:FX101.9
X-ORIGINAL-URL:https://fx1019.ca
X-WR-CALDESC:Events for FX101.9
BEGIN:VEVENT
DTSTART;TZID=America/Halifax:20250711T110000
DTEND;TZID=America/Halifax:20250711T113000
DTSTAMP:20260421T085627
CREATED:20250630T201627Z
LAST-MODIFIED:20250630T201722Z
UID:18292-1752231600-1752233400@fx1019.ca
SUMMARY:The River John Lions Club Annual Chicken BBQ
DESCRIPTION:The River John Lions Club will be hosting  their annual Chicken BBQ on July 13th 2025 starting at 11am until sold out. Meals are $22. Rain or shine. 2724 River John Station Road\, River John. \n
URL:https://fx1019.ca/event/the-river-john-lions-club-annual-chicken-bbq/
ATTACH;FMTTYPE=image/jpeg:https://fx1019.ca/wp-content/uploads/sites/3/2025/06/1000025275.jpg
END:VEVENT
END:VCALENDAR