BEGIN:VCALENDAR
VERSION:2.0
PRODID:-//FX101.9 - ECPv4.6.26//NONSGML v1.0//EN
CALSCALE:GREGORIAN
METHOD:PUBLISH
X-WR-CALNAME:FX101.9
X-ORIGINAL-URL:https://fx1019.ca
X-WR-CALDESC:Events for FX101.9
BEGIN:VEVENT
DTSTART;VALUE=DATE:20190517
DTEND;VALUE=DATE:20190519
DTSTAMP:20260424T051059
CREATED:20190506T223640Z
LAST-MODIFIED:20190506T223640Z
UID:8753-1558051200-1558223999@fx1019.ca
SUMMARY:This Is North Preston : Movie
DESCRIPTION:Join us May 17th & 18th to view the film as it’s meant to be seen: on the big screen followed by an after party. Who’s coming? Tickets available on the cineplex website. Let’s go! \nCineplex Dartmouth Crossing \n  \n
URL:https://fx1019.ca/event/this-is-north-preston-movie/
END:VEVENT
END:VCALENDAR