BEGIN:VCALENDAR
VERSION:2.0
PRODID:-//FX101.9 - ECPv4.6.26//NONSGML v1.0//EN
CALSCALE:GREGORIAN
METHOD:PUBLISH
X-WR-CALNAME:FX101.9
X-ORIGINAL-URL:https://fx1019.ca
X-WR-CALDESC:Events for FX101.9
BEGIN:VEVENT
DTSTART;VALUE=DATE:20170312
DTEND;VALUE=DATE:20170313
DTSTAMP:20260421T001805
CREATED:20170216T153147Z
LAST-MODIFIED:20170216T153147Z
UID:3897-1489276800-1489363199@fx1019.ca
SUMMARY:Variety Show
DESCRIPTION:Variety Show-Forties Community Centre-1787 Forties Rd.\,New Ross\nSunday\, March 12 – 1:30-4:00pm\, $5.00 admission\nBonded Connection\, Country Rebels\, Country Heat\, Cye & the Guys\nSound by Dave Guptill Wheelchair accessible Canteen available\nCall 689-2000 or 689-2612 for Information \n
URL:https://fx1019.ca/event/variety-show-2/
END:VEVENT
END:VCALENDAR