BEGIN:VCALENDAR
VERSION:2.0
PRODID:-//FX101.9 - ECPv4.6.26//NONSGML v1.0//EN
CALSCALE:GREGORIAN
METHOD:PUBLISH
X-WR-CALNAME:FX101.9
X-ORIGINAL-URL:https://fx1019.ca
X-WR-CALDESC:Events for FX101.9
BEGIN:VEVENT
DTSTART;VALUE=DATE:20190516
DTEND;VALUE=DATE:20190527
DTSTAMP:20260419T220437
CREATED:20190405T163939Z
LAST-MODIFIED:20190525T195652Z
UID:8302-1557964800-1558915199@fx1019.ca
SUMMARY:The Memorial Cup
DESCRIPTION:The Memorial Cup Final Sunday @ 8 pm Scotiabank Centre Halifax \nSunday’s Memorial Cup final will be a rematch of the QMJHL final that Rouyn-Noranda took in six games. The Huskies also beat Halifax 4-3 on Wednesday in the final round-robin game. Rouyn-Noranda seeking 1st title while host Halifax won in 2013. \n \n
URL:https://fx1019.ca/event/the-memorial-cup/
END:VEVENT
BEGIN:VEVENT
DTSTART;VALUE=DATE:20190523
DTEND;VALUE=DATE:20190524
DTSTAMP:20260419T220437
CREATED:20190520T202022Z
LAST-MODIFIED:20190520T202022Z
UID:8923-1558569600-1558655999@fx1019.ca
SUMMARY:NSSBL game in Dartmouth
DESCRIPTION:Nova Scotia Senior Baseball League \n05/23/19: Halifax at Dartmouth – 7:30 pm \nField :  Beazley Field – 50 Caledonia Road\, Dartmouth\, \n
URL:https://fx1019.ca/event/nssbl-game-in-dartmouth/
END:VEVENT
END:VCALENDAR