BEGIN:VCALENDAR
VERSION:2.0
PRODID:-//FX101.9 - ECPv4.6.26//NONSGML v1.0//EN
CALSCALE:GREGORIAN
METHOD:PUBLISH
X-WR-CALNAME:FX101.9
X-ORIGINAL-URL:https://fx1019.ca
X-WR-CALDESC:Events for FX101.9
BEGIN:VEVENT
DTSTART;VALUE=DATE:20191014
DTEND;VALUE=DATE:20191015
DTSTAMP:20260421T100408
CREATED:20190502T112718Z
LAST-MODIFIED:20190609T003657Z
UID:8611-1571011200-1571097599@fx1019.ca
SUMMARY:Thanksgiving Day
DESCRIPTION: \n
URL:https://fx1019.ca/event/thanksgiving-day/
END:VEVENT
BEGIN:VEVENT
DTSTART;VALUE=DATE:20191014
DTEND;VALUE=DATE:20191015
DTSTAMP:20260421T100408
CREATED:20190531T015040Z
LAST-MODIFIED:20190531T015040Z
UID:9113-1571011200-1571097599@fx1019.ca
SUMMARY:Raptors debut in Halifax
DESCRIPTION:October 14\, 1995 The Toronto Raptors debuted in Halifax in front of over 9\,000 fans. Halifax was the host city for the teams \nfirst exhibition game against Philadelphia. The Raptors won the game 120-107. \n
URL:https://fx1019.ca/event/raptors-debut-in-halifax/
END:VEVENT
END:VCALENDAR