BEGIN:VCALENDAR
VERSION:2.0
PRODID:-//FX101.9 - ECPv4.6.26//NONSGML v1.0//EN
CALSCALE:GREGORIAN
METHOD:PUBLISH
X-WR-CALNAME:FX101.9
X-ORIGINAL-URL:https://fx1019.ca
X-WR-CALDESC:Events for FX101.9
BEGIN:VEVENT
DTSTART;VALUE=DATE:20191016
DTEND;VALUE=DATE:20191017
DTSTAMP:20260421T132257
CREATED:20190806T231221Z
LAST-MODIFIED:20190806T231221Z
UID:9669-1571184000-1571270399@fx1019.ca
SUMMARY:Bra Day
DESCRIPTION:\n\nOctober 16\, 2019 – 5:00 PM – 7:00 PM \nRoyal Bank Theatre\, QEII \n1796 Summer Street Entrance \nHalifax\, Nova Scotia \n\n\nBRA Day is a FREE\, once-a-year event that brings leading breast reconstruction experts together to answer all your questions.\n
URL:https://fx1019.ca/event/bra-day/
END:VEVENT
END:VCALENDAR