BEGIN:VCALENDAR
VERSION:2.0
PRODID:-//FX101.9 - ECPv4.6.26//NONSGML v1.0//EN
CALSCALE:GREGORIAN
METHOD:PUBLISH
X-WR-CALNAME:FX101.9
X-ORIGINAL-URL:https://fx1019.ca
X-WR-CALDESC:Events for FX101.9
BEGIN:VEVENT
DTSTART;VALUE=DATE:20191019
DTEND;VALUE=DATE:20191021
DTSTAMP:20260421T200540
CREATED:20190603T212922Z
LAST-MODIFIED:20190603T212922Z
UID:9140-1571443200-1571615999@fx1019.ca
SUMMARY:Curbside Give Away Weekend
DESCRIPTION:FREE up some space and get some FREE stuff!\nRid yourself of clutter and find some great FREE items of your own! Put out your unwanted household items during Curbside Give Away Weekend instead of discarding them. It’s a great way to reduce the amount of garbage ending up in the landfill\, while allowing someone else to find something new. \nThis event happens rain or shine. October 19 & 20\, 2019. \n
URL:https://fx1019.ca/event/curbside-give-away-weekend/
END:VEVENT
END:VCALENDAR