BEGIN:VCALENDAR
VERSION:2.0
PRODID:-//FX101.9 - ECPv4.6.26//NONSGML v1.0//EN
CALSCALE:GREGORIAN
METHOD:PUBLISH
X-WR-CALNAME:FX101.9
X-ORIGINAL-URL:https://fx1019.ca
X-WR-CALDESC:Events for FX101.9
BEGIN:VEVENT
DTSTART;VALUE=DATE:20191021
DTEND;VALUE=DATE:20191022
DTSTAMP:20260421T215857
CREATED:20190927T212647Z
LAST-MODIFIED:20190927T212647Z
UID:10093-1571616000-1571702399@fx1019.ca
SUMMARY:Federal election
DESCRIPTION:The 2019 Canadian federal election (formally the 43rd Canadian general election) is scheduled to take place on October 21\, 2019\, to elect members of the House of Commons to the 43rd Canadian Parliament. Governor General Julie Payette dissolved the 42nd Parliament on September 11\, 2019 on the advice of Prime Minister Justin Trudeau. \n
URL:https://fx1019.ca/event/federal-election/
END:VEVENT
END:VCALENDAR