BEGIN:VCALENDAR
VERSION:2.0
PRODID:-//FX101.9 - ECPv4.6.26//NONSGML v1.0//EN
CALSCALE:GREGORIAN
METHOD:PUBLISH
X-WR-CALNAME:FX101.9
X-ORIGINAL-URL:https://fx1019.ca
X-WR-CALDESC:Events for FX101.9
BEGIN:VEVENT
DTSTART;VALUE=DATE:20191022
DTEND;VALUE=DATE:20191023
DTSTAMP:20260423T083803
CREATED:20190528T004318Z
LAST-MODIFIED:20190528T004318Z
UID:9037-1571702400-1571788799@fx1019.ca
SUMMARY:New book from Michael Connelly
DESCRIPTION:The Night Fire : October 22\, 2019 \nHarry Bosch and LAPD Detective Renee Ballard come together again on the murder case that obsessed Bosch’s mentor\, the man who trained him — new from #1 New York Times bestselling author Michael Connelly \n
URL:https://fx1019.ca/event/new-book-from-michael-connelly/
END:VEVENT
BEGIN:VEVENT
DTSTART;VALUE=DATE:20191022
DTEND;VALUE=DATE:20191023
DTSTAMP:20260423T083803
CREATED:20190726T214839Z
LAST-MODIFIED:20190812T215101Z
UID:9618-1571702400-1571788799@fx1019.ca
SUMMARY:NBA regular season starts
DESCRIPTION:The regular season will begin on October 22\, 2019 and will end in April 2020. The playoffs will begin in April 2020\, and will end with the NBA Finals in June 2020. The 2020 NBA All-Star Game will be played on February 16\, 2020\, at the United Center in Chicago\, Illinois. \n \n
URL:https://fx1019.ca/event/nba-regular-season-starts/
END:VEVENT
END:VCALENDAR