BEGIN:VCALENDAR
VERSION:2.0
PRODID:-//FX101.9 - ECPv4.6.26//NONSGML v1.0//EN
CALSCALE:GREGORIAN
METHOD:PUBLISH
X-WR-CALNAME:FX101.9
X-ORIGINAL-URL:https://fx1019.ca
X-WR-CALDESC:Events for FX101.9
BEGIN:VEVENT
DTSTART;VALUE=DATE:20191119
DTEND;VALUE=DATE:20191120
DTSTAMP:20260424T102556
CREATED:20190510T232936Z
LAST-MODIFIED:20190510T232936Z
UID:8809-1574121600-1574207999@fx1019.ca
SUMMARY:Billy Currington's birthday
DESCRIPTION:Born : November 19\, 1973 in Savannah\, Georgia. \nBilly Currington abandoned his plan to be a football star and instead embarked on a career in Country music after high school. \nHe has four sisters (Lexie\, Ann\, Kim\, and Kellie) and three brothers (Charles\, Jason and Kurt Cobain). \n
URL:https://fx1019.ca/event/billy-curringtons-birthday/
END:VEVENT
END:VCALENDAR