BEGIN:VCALENDAR
VERSION:2.0
PRODID:-//FX101.9 - ECPv4.6.26//NONSGML v1.0//EN
CALSCALE:GREGORIAN
METHOD:PUBLISH
X-WR-CALNAME:FX101.9
X-ORIGINAL-URL:https://fx1019.ca
X-WR-CALDESC:Events for FX101.9
BEGIN:VEVENT
DTSTART;VALUE=DATE:20191213
DTEND;VALUE=DATE:20191214
DTSTAMP:20260420T201340
CREATED:20190506T152958Z
LAST-MODIFIED:20190506T152958Z
UID:8739-1576195200-1576281599@fx1019.ca
SUMMARY:Taylor Swift's birthday
DESCRIPTION:Born December 13\, 1989 in Reading\, Pennsylvania. \nMoved to Nashville at the age of 14 to pursue music. \nTaylor was named after James Taylor. \n
URL:https://fx1019.ca/event/taylor-swifts-birthday/
END:VEVENT
BEGIN:VEVENT
DTSTART;VALUE=DATE:20191213
DTEND;VALUE=DATE:20191214
DTSTAMP:20260420T201340
CREATED:20190930T152109Z
LAST-MODIFIED:20190930T152109Z
UID:10099-1576195200-1576281599@fx1019.ca
SUMMARY:New Blake Shleton
DESCRIPTION:From Blake Shelton : “Fully Loaded: God’s Country” available everywhere December 13th. 12 songs – 7 you’ve heard\, 5 brand new. This album’s dedicated to y’all. Can’t wait — Get ready! \n
URL:https://fx1019.ca/event/new-blake-shleton/
END:VEVENT
END:VCALENDAR