BEGIN:VCALENDAR
VERSION:2.0
PRODID:-//FX101.9 - ECPv4.6.26//NONSGML v1.0//EN
CALSCALE:GREGORIAN
METHOD:PUBLISH
X-WR-CALNAME:FX101.9
X-ORIGINAL-URL:https://fx1019.ca
X-WR-CALDESC:Events for FX101.9
BEGIN:VEVENT
DTSTART;TZID=America/Halifax:20200111T090000
DTEND;TZID=America/Halifax:20200111T120000
DTSTAMP:20260424T193149
CREATED:20200106T145342Z
LAST-MODIFIED:20200106T145342Z
UID:10745-1578733200-1578744000@fx1019.ca
SUMMARY:St Luke's Church After Christmas Flea Market
DESCRIPTION:St Luke’s Church After Christmas Flea Market\, on Saturday January 11\,2020 9am to 12 Noon at St Luke’s Church\, 9 Veterans Ave. Dartmouth\, NS.\, Tel# 902 462 0135.Consisting of Christmas items\, household items\, books\, clothes\, bake goods etc.300 feet of items to view and purchase. Admission $2.00 per adult \n
URL:https://fx1019.ca/event/st-lukes-church-after-christmas-flea-market/
END:VEVENT
BEGIN:VEVENT
DTSTART;TZID=America/Halifax:20200111T100000
DTEND;TZID=America/Halifax:20200111T120000
DTSTAMP:20260424T193149
CREATED:20200106T144734Z
LAST-MODIFIED:20200106T144734Z
UID:10740-1578736800-1578744000@fx1019.ca
SUMMARY:Long Lake Hike
DESCRIPTION:Hike Nova Scotia and Curvy Girls Hiking present a guided hike at Long Lake Provincial Park in Halifax on January 11 at 1 pm. Qualify to win a trail prize. See www.hikenovascotia.ca for details. \n
URL:https://fx1019.ca/event/long-lake-hike/
END:VEVENT
END:VCALENDAR