BEGIN:VCALENDAR
VERSION:2.0
PRODID:-//FX101.9 - ECPv4.6.26//NONSGML v1.0//EN
CALSCALE:GREGORIAN
METHOD:PUBLISH
X-WR-CALNAME:FX101.9
X-ORIGINAL-URL:https://fx1019.ca
X-WR-CALDESC:Events for FX101.9
BEGIN:VEVENT
DTSTART;VALUE=DATE:20200207
DTEND;VALUE=DATE:20200208
DTSTAMP:20260421T114452
CREATED:20200106T145854Z
LAST-MODIFIED:20200106T145854Z
UID:10757-1581033600-1581119999@fx1019.ca
SUMMARY:Happy Birthday Garth Brooks!
DESCRIPTION:Born in 1962! \n
URL:https://fx1019.ca/event/happy-birthday-garth-brooks/
END:VEVENT
END:VCALENDAR