BEGIN:VCALENDAR
VERSION:2.0
PRODID:-//FX101.9 - ECPv4.6.26//NONSGML v1.0//EN
CALSCALE:GREGORIAN
METHOD:PUBLISH
X-WR-CALNAME:FX101.9
X-ORIGINAL-URL:https://fx1019.ca
X-WR-CALDESC:Events for FX101.9
BEGIN:VEVENT
DTSTART;VALUE=DATE:20200711
DTEND;VALUE=DATE:20200719
DTSTAMP:20260425T211611
CREATED:20200714T145437Z
LAST-MODIFIED:20200714T145437Z
UID:12070-1594425600-1595116799@fx1019.ca
SUMMARY:NAIG AT HOME
DESCRIPTION:Despite having to postpone the 2020 North American Indigenous Games to 2021\, NAIG is hosting a virutal celebration from July 11-18\, 2020! \nVisit NAIG2020HFX on Facebook daily to participate and learn more about #NAIGatHOME. \nEveryone is invited to participate\, no formal registration required. \n
URL:https://fx1019.ca/event/naig-at-home/
CATEGORIES:Community Events
ATTACH;FMTTYPE=image/png:https://fx1019.ca/wp-content/uploads/sites/3/2020/07/05-11-2019-NAIG-Icon-RGB-FC_filled_v2.png
END:VEVENT
BEGIN:VEVENT
DTSTART;VALUE=DATE:20200717
DTEND;VALUE=DATE:20200718
DTSTAMP:20260425T211611
CREATED:20200716T084608Z
LAST-MODIFIED:20200716T084736Z
UID:12080-1594944000-1595030399@fx1019.ca
SUMMARY:Birthday - LUKE BRYAN
DESCRIPTION:Thomas Luther “Luke” Bryan (born July 17\, 1976) began his music career writing songs for Travis Tritt and Billy Currington – before signing with Capitol Nashville with his cousin\, Chad Christopher Boyd\, in 2007. \nBryan’s first nine albums – I’ll Stay Me (2007)\, Doin’ My Thing (2009)\, Tailgates & Tanlines (2011)\, Crash My Party (2013)\, Spring Break…Here to Party (2014)\, Spring Break…Checkin’ Out (2015)\, Kill the Lights (2015)\, Farm Tour… Here’s to the Farmer (2016)\, and What Makes You Country (2017) – have included 23 number-one hits. \nIn 2013\, Bryan was named “Entertainer of the Year” by both the Academy of Country Music Awards and the Country Music Association. \nIn 2019\, Bryan’s 2013 album Crash My Party received the first Album of the Decade award from the Academy of Country Music. \nHe has sold over seven million albums and 27 million singles worldwide. \n
URL:https://fx1019.ca/event/birthday-luke-bryan/
CATEGORIES:Birthday
ATTACH;FMTTYPE=image/jpeg:https://fx1019.ca/wp-content/uploads/sites/3/2020/06/photo-1523757956233-94a86ff74ea5.jpg
END:VEVENT
END:VCALENDAR