BEGIN:VCALENDAR
VERSION:2.0
PRODID:-//FX101.9 - ECPv4.6.26//NONSGML v1.0//EN
CALSCALE:GREGORIAN
METHOD:PUBLISH
X-WR-CALNAME:FX101.9
X-ORIGINAL-URL:https://fx1019.ca
X-WR-CALDESC:Events for FX101.9
BEGIN:VEVENT
DTSTART;VALUE=DATE:20200912
DTEND;VALUE=DATE:20200913
DTSTAMP:20260424T082741
CREATED:20200910T120624Z
LAST-MODIFIED:20200910T120755Z
UID:12377-1599868800-1599955199@fx1019.ca
SUMMARY:Birthday - GEORGE JONES
DESCRIPTION:George Glenn Jones (September 12\, 1931 – April 26\, 2013) was an American musician\, singer and songwriter. He achieved international fame for his long list of hit records\, including his best-known song “He Stopped Loving Her Today”\, as well as his distinctive voice and phrasing. For the last twenty years of his life\, Jones was frequently referred to as the greatest living country singer. Years of alcoholism compromised his health and led to his missing many performances\, earning him the nickname “No Show Jones”.  Jones died in 2013\, aged 81\, from hypoxic respiratory failure. \nDuring his career\, Jones had more than 150 hits\, both as a solo artist and in duets with other artists. \nListen to Saturday Night Classics for George Jones Double Shots! \n
URL:https://fx1019.ca/event/birthday-george-jones/
CATEGORIES:Birthday
END:VEVENT
END:VCALENDAR