BEGIN:VCALENDAR
VERSION:2.0
PRODID:-//FX101.9 - ECPv4.6.26//NONSGML v1.0//EN
CALSCALE:GREGORIAN
METHOD:PUBLISH
X-WR-CALNAME:FX101.9
X-ORIGINAL-URL:https://fx1019.ca
X-WR-CALDESC:Events for FX101.9
BEGIN:VEVENT
DTSTART;VALUE=DATE:20220714
DTEND;VALUE=DATE:20220725
DTSTAMP:20260422T053105
CREATED:20200714T150115Z
LAST-MODIFIED:20220622T210207Z
UID:12072-1657756800-1658707199@fx1019.ca
SUMMARY:HALIFAX PRIDE FESTIVAL 2022
DESCRIPTION:\n\n\nHALIFAX PRIDE FESTIVAL 2022 \nThe Halifax Pride Festival is an annual 11 day gathering in the Halifax Regional Municipality for the 2SLGBTQ+ community. It features over 150 community and Pride organized events celebrating the history\, culture\, activism\, and perseverance of the queer community. \nThe Halifax Pride Parade will take place on Saturday\, July 16\, 2022 starting at 12:00PM in downtown Halifax. \nCLICK HERE FOR MORE INFORMATION \n\n\n
URL:https://fx1019.ca/event/halifax-pride-festival-2020/
CATEGORIES:Community Events
ATTACH;FMTTYPE=image/jpeg:https://fx1019.ca/wp-content/uploads/sites/3/2020/07/photo-1545231097-cbd796f1d95f.jpg
END:VEVENT
BEGIN:VEVENT
DTSTART;VALUE=DATE:20220720
DTEND;VALUE=DATE:20220721
DTSTAMP:20260422T053105
CREATED:20200720T093535Z
LAST-MODIFIED:20220627T125212Z
UID:12111-1658275200-1658361599@fx1019.ca
SUMMARY:Anniversary - FIRST MAN ON THE MOON
DESCRIPTION:Apollo 11 was the spaceflight that first landed humans on the Moon. \nCommander Neil Armstrong and lunar module pilot Buzz Aldrin formed the American crew that landed the Apollo Lunar Module Eagle on July 20\, 1969\, at 5:17pm (ADT). \nArmstrong became the first person to step onto the lunar surface six hours and 39 minutes later at 11:56pm; Aldrin joined him 19 minutes later. \nThey spent about two and a quarter hours together outside the spacecraft\, and they collected 47.5 pounds (21.5 kg) of lunar material to bring back to Earth. \nCommand module pilot Michael Collins flew the Command Module Columbia alone in lunar orbit while they were on the Moon’s surface. \nArmstrong and Aldrin spent 21 hours\, 36 minutes on the lunar surface at a site they named Tranquility Base before lifting off to rejoin Columbia in lunar orbit. \n
URL:https://fx1019.ca/event/anniversary-first-man-on-the-moon/
CATEGORIES:Observances
ATTACH;FMTTYPE=image/jpeg:https://fx1019.ca/wp-content/uploads/sites/3/2020/07/photo-1541873676-a18131494184.jpg
END:VEVENT
END:VCALENDAR