BEGIN:VCALENDAR
VERSION:2.0
PRODID:-//FX101.9 - ECPv4.6.26//NONSGML v1.0//EN
CALSCALE:GREGORIAN
METHOD:PUBLISH
X-WR-CALNAME:FX101.9
X-ORIGINAL-URL:https://fx1019.ca
X-WR-CALDESC:Events for FX101.9
BEGIN:VEVENT
DTSTART;VALUE=DATE:20210207
DTEND;VALUE=DATE:20210208
DTSTAMP:20260421T165409
CREATED:20210201T163926Z
LAST-MODIFIED:20210201T163926Z
UID:13260-1612656000-1612742399@fx1019.ca
SUMMARY:Birthday - GARTH BROOKS (59)
DESCRIPTION:Troyal Garth Brooks (born February 7\, 1962) is an American singer and songwriter. His integration of rock and pop elements into the country genre has earned him popularity\, particularly in the United States with success on the country music single and album charts\, multi-platinum recordings and record-breaking live performances\, while also crossing over into the mainstream pop arena. \nAs of 2020\, Brooks is now the only artist in music history to have released nine albums that achieved diamond status in the United States (surpassing the Beatles’ former record of six). \nSince 1989\, Brooks has released 23 records in all\, which include 13 studio albums\, two live albums\, three compilation albums\, three Christmas albums and four box sets\, along with 77 singles. He has won several awards in his career\, including two Grammy Awards\, 17 American Music Awards (including “Artist of the ’90s”) and the RIAA Award for best-selling solo albums artist of the century in the U.S. \nBrooks is one of the world’s best-selling music artists\, having sold more than 170 million records. \nAs of 2020\, according to the RIAA\, he is the best-selling solo albums artist in the United States with 156 million domestic units sold\, ahead of Elvis Presley\, and is second only to the Beatles in total album sales overall. \nBrooks was inducted into the Country Music Hall of Fame on October 21\, 2012\, having been inducted into the Songwriters Hall of Fame the year before. \nHe was also inducted into the Musicians Hall of Fame and Museum in 2016 with his studio musicians\, The G-Men. \nOn March 4\, 2020\, Brooks received the Library of Congress Gershwin Prize for Popular Song. At age 58\, he is the youngest recipient of the award. \nOn January 20\, 2021\, Brooks performed “Amazing Grace” at the inauguration of Joe Biden. \n
URL:https://fx1019.ca/event/birthday-garth-brooks-59/
CATEGORIES:Birthday
END:VEVENT
END:VCALENDAR