BEGIN:VCALENDAR
VERSION:2.0
PRODID:-//FX101.9 - ECPv4.6.26//NONSGML v1.0//EN
CALSCALE:GREGORIAN
METHOD:PUBLISH
X-WR-CALNAME:FX101.9
X-ORIGINAL-URL:https://fx1019.ca
X-WR-CALDESC:Events for FX101.9
BEGIN:VEVENT
DTSTART;VALUE=DATE:20220320
DTEND;VALUE=DATE:20220321
DTSTAMP:20260423T084112
CREATED:20200319T183918Z
LAST-MODIFIED:20220228T135450Z
UID:11377-1647734400-1647820799@fx1019.ca
SUMMARY:Birthday - ROB WELLS (51)
DESCRIPTION:\n\n\n\n\nRobb Wells is a Canadian actor and screenwriter best known for portraying Ricky LaFleur on Trailer Park Boys.\n\n\n\n\n\n\n\nBorn: Moncton  March 20\, 1971 \nWow\, Ricky is 51! (so much for “Freedom 35”)\n\n\n
URL:https://fx1019.ca/event/birthday-rob-wells/
CATEGORIES:Birthday
ATTACH;FMTTYPE=image/jpeg:https://fx1019.ca/wp-content/uploads/sites/3/2020/03/EB4EB37F-4ACD-47F1-A4FF-3B63272831E8.jpeg
END:VEVENT
END:VCALENDAR